BEGIN:VCALENDAR
VERSION:2.0
PRODID:-//jEvents 2.0 for Joomla//EN
CALSCALE:GREGORIAN
METHOD:PUBLISH
BEGIN:VTIMEZONE
TZID:Europe/Berlin
END:VTIMEZONE
BEGIN:VEVENT
UID:3ea75288ce39309fbaf58aca2362544c
CATEGORIES:Schützenbruderschaft
SUMMARY:Fronleichnam / Pfarrfest
DESCRIPTION;ENCODING=QUOTED-PRINTABLE:
DTSTAMP:20260419T210401Z
DTSTART;TZID=Europe/Berlin;VALUE=DATE:20260604
DTEND;TZID=Europe/Berlin;VALUE=DATE:20260605
SEQUENCE:0
TRANSP:OPAQUE
END:VEVENT
END:VCALENDAR