BEGIN:VCALENDAR
VERSION:2.0
PRODID:-//jEvents 2.0 for Joomla//EN
CALSCALE:GREGORIAN
METHOD:PUBLISH
BEGIN:VTIMEZONE
TZID:Europe/Berlin
END:VTIMEZONE
BEGIN:VEVENT
UID:f0736a283a2dfa4e100c4810faac1273
CATEGORIES:Schützenbruderschaft
SUMMARY:Dorffest
DESCRIPTION;ENCODING=QUOTED-PRINTABLE:
DTSTAMP:20260419T162633Z
DTSTART;TZID=Europe/Berlin;VALUE=DATE:20260514
DTEND;TZID=Europe/Berlin;VALUE=DATE:20260515
SEQUENCE:0
TRANSP:OPAQUE
END:VEVENT
END:VCALENDAR