BEGIN:VCALENDAR
VERSION:2.0
PRODID:-//jEvents 2.0 for Joomla//EN
CALSCALE:GREGORIAN
METHOD:PUBLISH
BEGIN:VTIMEZONE
TZID:Europe/Berlin
END:VTIMEZONE
BEGIN:VEVENT
UID:baf21144b7b29261c5b41f4547a0d00f
CATEGORIES:Schützenbruderschaft
SUMMARY:Mai-Feuer
DESCRIPTION;ENCODING=QUOTED-PRINTABLE:
DTSTAMP:20260419T162938Z
DTSTART;TZID=Europe/Berlin;VALUE=DATE:20260430
DTEND;TZID=Europe/Berlin;VALUE=DATE:20260501
SEQUENCE:0
TRANSP:OPAQUE
END:VEVENT
END:VCALENDAR