BEGIN:VCALENDAR
VERSION:2.0
PRODID:-//jEvents 2.0 for Joomla//EN
CALSCALE:GREGORIAN
METHOD:PUBLISH
BEGIN:VTIMEZONE
TZID:Europe/Berlin
END:VTIMEZONE
BEGIN:VEVENT
UID:bbed4557230a058e26a4f59bc9969964
CATEGORIES:Schützenbruderschaft
SUMMARY:Osterschießen
DESCRIPTION;ENCODING=QUOTED-PRINTABLE:
DTSTAMP:20260420T024630Z
DTSTART;TZID=Europe/Berlin;VALUE=DATE:20260402
DTEND;TZID=Europe/Berlin;VALUE=DATE:20260403
SEQUENCE:0
TRANSP:OPAQUE
END:VEVENT
END:VCALENDAR