BEGIN:VCALENDAR
VERSION:2.0
PRODID:-//jEvents 2.0 for Joomla//EN
CALSCALE:GREGORIAN
METHOD:PUBLISH
BEGIN:VTIMEZONE
TZID:Europe/Berlin
END:VTIMEZONE
BEGIN:VEVENT
UID:4c8600b1abd9bbfe81c6fe96fc880c71
CATEGORIES:Schützenbruderschaft
SUMMARY:Aktion „Fit für den Frühling“
DESCRIPTION;ENCODING=QUOTED-PRINTABLE:
DTSTAMP:20260419T162628Z
DTSTART;TZID=Europe/Berlin;VALUE=DATE:20260321
DTEND;TZID=Europe/Berlin;VALUE=DATE:20260322
SEQUENCE:0
TRANSP:OPAQUE
END:VEVENT
END:VCALENDAR