BEGIN:VCALENDAR
VERSION:2.0
PRODID:-//jEvents 2.0 for Joomla//EN
CALSCALE:GREGORIAN
METHOD:PUBLISH
BEGIN:VTIMEZONE
TZID:Europe/Berlin
END:VTIMEZONE
BEGIN:VEVENT
UID:7809eead77c29dc89bebe1de9566da48
CATEGORIES:Schützenbruderschaft
SUMMARY:Jahreshauptversammlung
DESCRIPTION;ENCODING=QUOTED-PRINTABLE:
DTSTAMP:20260419T171258Z
DTSTART;TZID=Europe/Berlin;VALUE=DATE:20260313
DTEND;TZID=Europe/Berlin;VALUE=DATE:20260314
SEQUENCE:0
TRANSP:OPAQUE
END:VEVENT
END:VCALENDAR