BEGIN:VCALENDAR
VERSION:2.0
PRODID:-//jEvents 2.0 for Joomla//EN
CALSCALE:GREGORIAN
METHOD:PUBLISH
BEGIN:VTIMEZONE
TZID:Europe/Berlin
BEGIN:STANDARD
DTSTART:20241027T020000
RDATE:20250330T030000
TZOFFSETFROM:+0200
TZOFFSETTO:+0100
TZNAME:Europe/Berlin CET
END:STANDARD
BEGIN:DAYLIGHT
DTSTART:20240912T000000
RDATE:20241027T020000
TZOFFSETFROM:+0100
TZOFFSETTO:+0200
TZNAME:Europe/Berlin CEST
END:DAYLIGHT
END:VTIMEZONE
BEGIN:VEVENT
UID:a90dffd01580165f517a7fe08499762f
CATEGORIES:Schützenbruderschaft
SUMMARY:Schützenfest Butzheim
DESCRIPTION;ENCODING=QUOTED-PRINTABLE:
DTSTAMP:20260419T212936Z
DTSTART;TZID=Europe/Berlin;VALUE=DATE:20250913
DTEND;TZID=Europe/Berlin;VALUE=DATE:20250917
SEQUENCE:0
TRANSP:OPAQUE
END:VEVENT
END:VCALENDAR