BEGIN:VCALENDAR
VERSION:2.0
PRODID:-//jEvents 2.0 for Joomla//EN
CALSCALE:GREGORIAN
METHOD:PUBLISH
BEGIN:VTIMEZONE
TZID:Europe/Berlin
BEGIN:STANDARD
DTSTART:20161030T020000
RDATE:20170326T030000
TZOFFSETFROM:+0200
TZOFFSETTO:+0100
TZNAME:Europe/Berlin CET
END:STANDARD
BEGIN:STANDARD
DTSTART:20171029T020000
RDATE:20180325T030000
TZOFFSETFROM:+0200
TZOFFSETTO:+0100
TZNAME:Europe/Berlin CET
END:STANDARD
BEGIN:STANDARD
DTSTART:20181028T020000
RDATE:20190331T030000
TZOFFSETFROM:+0200
TZOFFSETTO:+0100
TZNAME:Europe/Berlin CET
END:STANDARD
BEGIN:STANDARD
DTSTART:20191027T020000
RDATE:20200329T030000
TZOFFSETFROM:+0200
TZOFFSETTO:+0100
TZNAME:Europe/Berlin CET
END:STANDARD
BEGIN:STANDARD
DTSTART:20201025T020000
RDATE:20210328T030000
TZOFFSETFROM:+0200
TZOFFSETTO:+0100
TZNAME:Europe/Berlin CET
END:STANDARD
BEGIN:STANDARD
DTSTART:20211031T020000
RDATE:20220327T030000
TZOFFSETFROM:+0200
TZOFFSETTO:+0100
TZNAME:Europe/Berlin CET
END:STANDARD
BEGIN:STANDARD
DTSTART:20221030T020000
RDATE:20230326T030000
TZOFFSETFROM:+0200
TZOFFSETTO:+0100
TZNAME:Europe/Berlin CET
END:STANDARD
BEGIN:STANDARD
DTSTART:20231029T020000
RDATE:20240331T030000
TZOFFSETFROM:+0200
TZOFFSETTO:+0100
TZNAME:Europe/Berlin CET
END:STANDARD
BEGIN:STANDARD
DTSTART:20241027T020000
RDATE:20250330T030000
TZOFFSETFROM:+0200
TZOFFSETTO:+0100
TZNAME:Europe/Berlin CET
END:STANDARD
BEGIN:DAYLIGHT
DTSTART:20160609T000000
RDATE:20161030T020000
TZOFFSETFROM:+0100
TZOFFSETTO:+0200
TZNAME:Europe/Berlin CEST
END:DAYLIGHT
BEGIN:DAYLIGHT
DTSTART:20170326T030000
RDATE:20171029T020000
TZOFFSETFROM:+0100
TZOFFSETTO:+0200
TZNAME:Europe/Berlin CEST
END:DAYLIGHT
BEGIN:DAYLIGHT
DTSTART:20180325T030000
RDATE:20181028T020000
TZOFFSETFROM:+0100
TZOFFSETTO:+0200
TZNAME:Europe/Berlin CEST
END:DAYLIGHT
BEGIN:DAYLIGHT
DTSTART:20190331T030000
RDATE:20191027T020000
TZOFFSETFROM:+0100
TZOFFSETTO:+0200
TZNAME:Europe/Berlin CEST
END:DAYLIGHT
BEGIN:DAYLIGHT
DTSTART:20200329T030000
RDATE:20201025T020000
TZOFFSETFROM:+0100
TZOFFSETTO:+0200
TZNAME:Europe/Berlin CEST
END:DAYLIGHT
BEGIN:DAYLIGHT
DTSTART:20210328T030000
RDATE:20211031T020000
TZOFFSETFROM:+0100
TZOFFSETTO:+0200
TZNAME:Europe/Berlin CEST
END:DAYLIGHT
BEGIN:DAYLIGHT
DTSTART:20220327T030000
RDATE:20221030T020000
TZOFFSETFROM:+0100
TZOFFSETTO:+0200
TZNAME:Europe/Berlin CEST
END:DAYLIGHT
BEGIN:DAYLIGHT
DTSTART:20230326T030000
RDATE:20231029T020000
TZOFFSETFROM:+0100
TZOFFSETTO:+0200
TZNAME:Europe/Berlin CEST
END:DAYLIGHT
BEGIN:DAYLIGHT
DTSTART:20240331T030000
RDATE:20241027T020000
TZOFFSETFROM:+0100
TZOFFSETTO:+0200
TZNAME:Europe/Berlin CEST
END:DAYLIGHT
END:VTIMEZONE
BEGIN:VEVENT
UID:149ed6af6eecde54d481fafb66470dd8
CATEGORIES:Schützenbruderschaft
SUMMARY:Kevelaer-Wallfahrt
DESCRIPTION;ENCODING=QUOTED-PRINTABLE:<p>Hallo liebe Schützenfamilie,</p><p>herzliche Einladung an alle Schützenb
 rüder und Schützenschwestern zur Teilnahme an unserer diesjährigen Kevelaer
 -Wallfahrt.</p><p>Ich bitte um rege Teilnahme aller Schützen im besonderen 
 hoffe ich auf das Mitwirken vom Vorstand und dem Königszug. Aber auch die J
 ungschützen lade ich hiermit besonders ein, gemeinsam mit Jung und Alt dies
 en Tag zu verbringen und zu genießen.<span style="font-size: 12.16px;"> </s
 pan></p><p> </p><p> </p><p align="center"><strong>Kevelaer-Wallfahrt</stron
 g></p><p align="center"><strong>der St. Sebastianus Schützenbruderschaft</s
 trong></p><p align="center"><strong>1300 Anstel e.V.</strong></p><p> </p><p
  align="center"><strong>Samstag,  10. Juni 2017</strong></p><p> </p><p> </p
 ><p><strong>09.45 Uhr      Abfahrt ab Schützenhalle</strong></p><p><span st
 yle="font-size: 12.16px;">11.15 Uhr                  Ankunft in Kevelaer</s
 pan></p><p><strong style="font-size: 12.16px;">11.30 Uhr      Messe in der 
 Kerzenkapelle</strong></p><p><span style="font-size: 12.16px;">12.30 Uhr   
                Zeit zur freien Verfügung</span></p><p><strong style="font-s
 ize: 12.16px;">14.30 Uhr      Abmarsch ab Kerzenkapelle zum Kreuzweg</stron
 g></p><p><span style="font-size: 12.16px;">16.15 Uhr                  Abfah
 rt nach Rheurdt, Neufelder Str. 142</span></p><p><span style="font-size: 12
 .16px;">16.45 Uhr                  Einkehr im Biergarten am See</span></p><
 p><span style="font-size: 12.16px;">18.15 Uhr                  Heimfahrt</s
 pan></p><p><strong style="font-size: 12.16px;">19.15 Uhr      Ankunft in An
 stel</strong></p><p> </p><p>Reisekosten in Höhe von 10,- Euro pro Person (K
 inder sind frei) werden im Reisebus entgegen genommen.</p><p> </p><p><stron
 g>Anmeldungen bitte bis spätestens Freitag, 09.06.2017</strong></p><p><stro
 ng>unter 02183-6381 an Peter Mahr.</strong></p><p> </p><p>Auch Nichtangehör
 ige der Bruderschaft sind herzlich eingeladen.</p><p><span style="font-size
 : 12.16px;">Der Vorstand</span></p>
DTSTAMP:20260425T155604Z
DTSTART;TZID=Europe/Berlin;VALUE=DATE:20170610
DTEND;TZID=Europe/Berlin;VALUE=DATE:20170611
SEQUENCE:0
TRANSP:OPAQUE
END:VEVENT
END:VCALENDAR