BEGIN:VCALENDAR
VERSION:2.0
PRODID:-//jEvents 2.0 for Joomla//EN
CALSCALE:GREGORIAN
METHOD:PUBLISH
BEGIN:VTIMEZONE
TZID:Europe/Berlin
BEGIN:STANDARD
DTSTART:20151025T020000
RDATE:20160327T030000
TZOFFSETFROM:+0200
TZOFFSETTO:+0100
TZNAME:Europe/Berlin CET
END:STANDARD
BEGIN:STANDARD
DTSTART:20161030T020000
RDATE:20170326T030000
TZOFFSETFROM:+0200
TZOFFSETTO:+0100
TZNAME:Europe/Berlin CET
END:STANDARD
BEGIN:STANDARD
DTSTART:20171029T020000
RDATE:20180325T030000
TZOFFSETFROM:+0200
TZOFFSETTO:+0100
TZNAME:Europe/Berlin CET
END:STANDARD
BEGIN:STANDARD
DTSTART:20181028T020000
RDATE:20190331T030000
TZOFFSETFROM:+0200
TZOFFSETTO:+0100
TZNAME:Europe/Berlin CET
END:STANDARD
BEGIN:STANDARD
DTSTART:20191027T020000
RDATE:20200329T030000
TZOFFSETFROM:+0200
TZOFFSETTO:+0100
TZNAME:Europe/Berlin CET
END:STANDARD
BEGIN:STANDARD
DTSTART:20201025T020000
RDATE:20210328T030000
TZOFFSETFROM:+0200
TZOFFSETTO:+0100
TZNAME:Europe/Berlin CET
END:STANDARD
BEGIN:STANDARD
DTSTART:20211031T020000
RDATE:20220327T030000
TZOFFSETFROM:+0200
TZOFFSETTO:+0100
TZNAME:Europe/Berlin CET
END:STANDARD
BEGIN:STANDARD
DTSTART:20221030T020000
RDATE:20230326T030000
TZOFFSETFROM:+0200
TZOFFSETTO:+0100
TZNAME:Europe/Berlin CET
END:STANDARD
BEGIN:STANDARD
DTSTART:20231029T020000
RDATE:20240331T030000
TZOFFSETFROM:+0200
TZOFFSETTO:+0100
TZNAME:Europe/Berlin CET
END:STANDARD
BEGIN:STANDARD
DTSTART:20241027T020000
RDATE:20250330T030000
TZOFFSETFROM:+0200
TZOFFSETTO:+0100
TZNAME:Europe/Berlin CET
END:STANDARD
BEGIN:DAYLIGHT
DTSTART:20150604T000000
RDATE:20151025T020000
TZOFFSETFROM:+0100
TZOFFSETTO:+0200
TZNAME:Europe/Berlin CEST
END:DAYLIGHT
BEGIN:DAYLIGHT
DTSTART:20160327T030000
RDATE:20161030T020000
TZOFFSETFROM:+0100
TZOFFSETTO:+0200
TZNAME:Europe/Berlin CEST
END:DAYLIGHT
BEGIN:DAYLIGHT
DTSTART:20170326T030000
RDATE:20171029T020000
TZOFFSETFROM:+0100
TZOFFSETTO:+0200
TZNAME:Europe/Berlin CEST
END:DAYLIGHT
BEGIN:DAYLIGHT
DTSTART:20180325T030000
RDATE:20181028T020000
TZOFFSETFROM:+0100
TZOFFSETTO:+0200
TZNAME:Europe/Berlin CEST
END:DAYLIGHT
BEGIN:DAYLIGHT
DTSTART:20190331T030000
RDATE:20191027T020000
TZOFFSETFROM:+0100
TZOFFSETTO:+0200
TZNAME:Europe/Berlin CEST
END:DAYLIGHT
BEGIN:DAYLIGHT
DTSTART:20200329T030000
RDATE:20201025T020000
TZOFFSETFROM:+0100
TZOFFSETTO:+0200
TZNAME:Europe/Berlin CEST
END:DAYLIGHT
BEGIN:DAYLIGHT
DTSTART:20210328T030000
RDATE:20211031T020000
TZOFFSETFROM:+0100
TZOFFSETTO:+0200
TZNAME:Europe/Berlin CEST
END:DAYLIGHT
BEGIN:DAYLIGHT
DTSTART:20220327T030000
RDATE:20221030T020000
TZOFFSETFROM:+0100
TZOFFSETTO:+0200
TZNAME:Europe/Berlin CEST
END:DAYLIGHT
BEGIN:DAYLIGHT
DTSTART:20230326T030000
RDATE:20231029T020000
TZOFFSETFROM:+0100
TZOFFSETTO:+0200
TZNAME:Europe/Berlin CEST
END:DAYLIGHT
BEGIN:DAYLIGHT
DTSTART:20240331T030000
RDATE:20241027T020000
TZOFFSETFROM:+0100
TZOFFSETTO:+0200
TZNAME:Europe/Berlin CEST
END:DAYLIGHT
END:VTIMEZONE
BEGIN:VEVENT
UID:1f59fb1c6aa0e28992461d470a56c642
CATEGORIES:Schützenbruderschaft
SUMMARY:Kevelaer-Wallfahrt
DESCRIPTION;ENCODING=QUOTED-PRINTABLE:<p>Am Samstag, 04. Juni 2016 lädt die St. Sebastianus Schützenbruderschaft 
 1300 Anstel e.V. alle Interessenten zur diesjährigen Familienwallfahrt nach
  Kevelaer ein.</p><p>Abfahrt in Richtung Niederlande ist um 08.30 Uhr ab de
 r Schützenhalle an der Lindenstraße.  Bevor es zum Picknick zur Maas-Schleu
 se in Belfeld/Holland geht, nehmen die Pilger in Nettetal-Breyell ihre Lunc
 hpakete in Empfang. Nach der morgendlichen Stärkung fährt der Reisebus weit
 er zum Wallfahrtsort Kevelaer. Der Gottesdienst in der Kerzenkapelle beginn
 t um 11.30 Uhr. Im Anschluss der Messe hat jeder zwei Stunden Zeit zur frei
 en Verfügung.</p><p>Um 14.30 Uhr treffen sich die Pilger aus Anstel und Leu
 th an der Kerzenkapelle und ziehen gemeinsam, unter den Klängen des Pfarror
 chester St. Lambertus Leuth, zum Kreuzweg. Der Leuther Kirchenchor wird ebe
 nfalls einen Teil des musikalischen Parts übernehmen.</p><p>Ab 16.00 Uhr st
 eht der Bus auf dem großen Parkplatz zur Weiterfahrt nach Arcen/Niederlande
  bereit. Dort sind im Pannenkoekenhuis (Pfannenkuchenhaus) „Bosrand“ für al
 le Beteiligten Plätze reserviert. Hier hat man Gelegenheit, die verschieden
 sten Spezialitäten des Hauses zu kosten oder sich bei Kaffee und Kuchen in 
 gepflegter Gartenatmosphäre zu entspannen. Die einstündige Heimfahrt ist fü
 r 18.00 Uhr geplant. Zum Abschluss der Wallfahrt werden unter dem Kreuz auf
  dem Ansteler Dorfplatz Kerzen aufgestellt und ein gemeinsames Gebet gespro
 chen.</p><p>Im Preis von 10,- Euro pro Person sind Busfahrt, Lunchpaket und
  Getränke beim Picknick enthalten. Für Kinder bis zum 14. Lebensjahr ist di
 e Fahrt kostenfrei.</p><p>Der Vorstand wünscht allen Teilnehmern, auch Nich
 tmitgliedern der Ansteler Bruderschaft, einen besinnlichen und doch fröhlic
 hen Tag.</p><p>Anmeldungen bitte bis Ende Mai an Peter Mahr unter 02183-638
 1.</p>
DTSTAMP:20260425T173041Z
DTSTART;TZID=Europe/Berlin;VALUE=DATE:20160604
DTEND;TZID=Europe/Berlin;VALUE=DATE:20160605
SEQUENCE:0
TRANSP:OPAQUE
END:VEVENT
END:VCALENDAR