BEGIN:VCALENDAR
VERSION:2.0
PRODID:-//jEvents 2.0 for Joomla//EN
CALSCALE:GREGORIAN
METHOD:PUBLISH
BEGIN:VTIMEZONE
TZID:Europe/Berlin
BEGIN:STANDARD
DTSTART:20141026T020000
RDATE:20150329T030000
TZOFFSETFROM:+0200
TZOFFSETTO:+0100
TZNAME:Europe/Berlin CET
END:STANDARD
BEGIN:STANDARD
DTSTART:20151025T020000
RDATE:20160327T030000
TZOFFSETFROM:+0200
TZOFFSETTO:+0100
TZNAME:Europe/Berlin CET
END:STANDARD
BEGIN:STANDARD
DTSTART:20161030T020000
RDATE:20170326T030000
TZOFFSETFROM:+0200
TZOFFSETTO:+0100
TZNAME:Europe/Berlin CET
END:STANDARD
BEGIN:STANDARD
DTSTART:20171029T020000
RDATE:20180325T030000
TZOFFSETFROM:+0200
TZOFFSETTO:+0100
TZNAME:Europe/Berlin CET
END:STANDARD
BEGIN:STANDARD
DTSTART:20181028T020000
RDATE:20190331T030000
TZOFFSETFROM:+0200
TZOFFSETTO:+0100
TZNAME:Europe/Berlin CET
END:STANDARD
BEGIN:STANDARD
DTSTART:20191027T020000
RDATE:20200329T030000
TZOFFSETFROM:+0200
TZOFFSETTO:+0100
TZNAME:Europe/Berlin CET
END:STANDARD
BEGIN:STANDARD
DTSTART:20201025T020000
RDATE:20210328T030000
TZOFFSETFROM:+0200
TZOFFSETTO:+0100
TZNAME:Europe/Berlin CET
END:STANDARD
BEGIN:STANDARD
DTSTART:20211031T020000
RDATE:20220327T030000
TZOFFSETFROM:+0200
TZOFFSETTO:+0100
TZNAME:Europe/Berlin CET
END:STANDARD
BEGIN:STANDARD
DTSTART:20221030T020000
RDATE:20230326T030000
TZOFFSETFROM:+0200
TZOFFSETTO:+0100
TZNAME:Europe/Berlin CET
END:STANDARD
BEGIN:STANDARD
DTSTART:20231029T020000
RDATE:20240331T030000
TZOFFSETFROM:+0200
TZOFFSETTO:+0100
TZNAME:Europe/Berlin CET
END:STANDARD
BEGIN:STANDARD
DTSTART:20241027T020000
RDATE:20250330T030000
TZOFFSETFROM:+0200
TZOFFSETTO:+0100
TZNAME:Europe/Berlin CET
END:STANDARD
BEGIN:DAYLIGHT
DTSTART:20140715T000000
RDATE:20141026T020000
TZOFFSETFROM:+0100
TZOFFSETTO:+0200
TZNAME:Europe/Berlin CEST
END:DAYLIGHT
BEGIN:DAYLIGHT
DTSTART:20150329T030000
RDATE:20151025T020000
TZOFFSETFROM:+0100
TZOFFSETTO:+0200
TZNAME:Europe/Berlin CEST
END:DAYLIGHT
BEGIN:DAYLIGHT
DTSTART:20160327T030000
RDATE:20161030T020000
TZOFFSETFROM:+0100
TZOFFSETTO:+0200
TZNAME:Europe/Berlin CEST
END:DAYLIGHT
BEGIN:DAYLIGHT
DTSTART:20170326T030000
RDATE:20171029T020000
TZOFFSETFROM:+0100
TZOFFSETTO:+0200
TZNAME:Europe/Berlin CEST
END:DAYLIGHT
BEGIN:DAYLIGHT
DTSTART:20180325T030000
RDATE:20181028T020000
TZOFFSETFROM:+0100
TZOFFSETTO:+0200
TZNAME:Europe/Berlin CEST
END:DAYLIGHT
BEGIN:DAYLIGHT
DTSTART:20190331T030000
RDATE:20191027T020000
TZOFFSETFROM:+0100
TZOFFSETTO:+0200
TZNAME:Europe/Berlin CEST
END:DAYLIGHT
BEGIN:DAYLIGHT
DTSTART:20200329T030000
RDATE:20201025T020000
TZOFFSETFROM:+0100
TZOFFSETTO:+0200
TZNAME:Europe/Berlin CEST
END:DAYLIGHT
BEGIN:DAYLIGHT
DTSTART:20210328T030000
RDATE:20211031T020000
TZOFFSETFROM:+0100
TZOFFSETTO:+0200
TZNAME:Europe/Berlin CEST
END:DAYLIGHT
BEGIN:DAYLIGHT
DTSTART:20220327T030000
RDATE:20221030T020000
TZOFFSETFROM:+0100
TZOFFSETTO:+0200
TZNAME:Europe/Berlin CEST
END:DAYLIGHT
BEGIN:DAYLIGHT
DTSTART:20230326T030000
RDATE:20231029T020000
TZOFFSETFROM:+0100
TZOFFSETTO:+0200
TZNAME:Europe/Berlin CEST
END:DAYLIGHT
BEGIN:DAYLIGHT
DTSTART:20240331T030000
RDATE:20241027T020000
TZOFFSETFROM:+0100
TZOFFSETTO:+0200
TZNAME:Europe/Berlin CEST
END:DAYLIGHT
END:VTIMEZONE
BEGIN:VEVENT
UID:8a928c8291158ffe2a0cc524714d6ae2
CATEGORIES:Schützenbruderschaft
SUMMARY:Senioren-Grillfete mit Vogelschuss
DESCRIPTION;ENCODING=QUOTED-PRINTABLE:<p>Der Senioren-Klub der St. Sebastianus Schützenbruderschaft 1300 Anstel e
 . V. veranstaltet am Donnerstag, 16. Juli 2015 auf dem Schützenplatz an der
  Lindenstraße gleich zwei Events.</p><p>Ab 16.00 Uhr sind alle Seniorinnen 
 und Senioren zu einer Grillfete eingeladen. Auf dem Holzkohlegrill wird auß
 er Nackensteaks und Bratwürste auch Lammfleisch zubereitet. Dazu dürfen fri
 sche Salate, schmackhafte Brote und kühle Getränke natürlich nicht fehlen.<
 /p><p>Um 18.00 Uhr startet die "Königsolympiade", bestehend aus fünf Diszip
 linen: Kugelschieben, Ballwerfen, Torwandschießen, Stufenzählen und als let
 zte Aufgabe etwas, das mit dem, jüngst unter Naturdenkmal gestellten, Linde
 nbaum zu tun haben wird. "Die Königsaspiranten können sich schon einmal Ged
 anken machen, welche Aufgabe das sein könnte", sagt Peter Mahr, amtierender
  Schützenkönig, Präsident und Seniorenbeauftragter der Ansteler Schützenbru
 derschaft. " So viel sei verraten", Mahr weiter "Baumklettern wird es defin
 itiv nicht sein".</p><p>Die Königsproklamation wird um 20.00 Uhr stattfinde
 n. Dann heißt es für den noch amtierenden Seniorenkönig Heinz Spaar Abschie
 d zu nehmen und die Königskette an seinen Nachfolger, oder seiner Nachfolge
 rin, abzugeben.</p><p>Zu diesem Seniorennachmittag sind alle Ansteler Mitbü
 rgerinnen und Mitbürger ab dem 60. Lebensjahr, aber auch interessierte Nach
 barn herzlich eingeladen.</p><p>Die Kosten werden auf die teilnehmenden Per
 sonen verteilt.</p><p>Anmeldungen nimmt Peter Mahr unter Tel. 02183-6383 bi
 s Montag, 13. Juli entgegen.</p><p> </p>
DTSTAMP:20260425T173042Z
DTSTART;TZID=Europe/Berlin;VALUE=DATE:20150716
DTEND;TZID=Europe/Berlin;VALUE=DATE:20150717
SEQUENCE:0
TRANSP:OPAQUE
END:VEVENT
END:VCALENDAR