BEGIN:VCALENDAR
VERSION:2.0
PRODID:-//jEvents 2.0 for Joomla//EN
CALSCALE:GREGORIAN
METHOD:PUBLISH
BEGIN:VTIMEZONE
TZID:Europe/Berlin
BEGIN:STANDARD
DTSTART:20141026T020000
RDATE:20150329T030000
TZOFFSETFROM:+0200
TZOFFSETTO:+0100
TZNAME:Europe/Berlin CET
END:STANDARD
BEGIN:STANDARD
DTSTART:20151025T020000
RDATE:20160327T030000
TZOFFSETFROM:+0200
TZOFFSETTO:+0100
TZNAME:Europe/Berlin CET
END:STANDARD
BEGIN:STANDARD
DTSTART:20161030T020000
RDATE:20170326T030000
TZOFFSETFROM:+0200
TZOFFSETTO:+0100
TZNAME:Europe/Berlin CET
END:STANDARD
BEGIN:STANDARD
DTSTART:20171029T020000
RDATE:20180325T030000
TZOFFSETFROM:+0200
TZOFFSETTO:+0100
TZNAME:Europe/Berlin CET
END:STANDARD
BEGIN:STANDARD
DTSTART:20181028T020000
RDATE:20190331T030000
TZOFFSETFROM:+0200
TZOFFSETTO:+0100
TZNAME:Europe/Berlin CET
END:STANDARD
BEGIN:STANDARD
DTSTART:20191027T020000
RDATE:20200329T030000
TZOFFSETFROM:+0200
TZOFFSETTO:+0100
TZNAME:Europe/Berlin CET
END:STANDARD
BEGIN:STANDARD
DTSTART:20201025T020000
RDATE:20210328T030000
TZOFFSETFROM:+0200
TZOFFSETTO:+0100
TZNAME:Europe/Berlin CET
END:STANDARD
BEGIN:STANDARD
DTSTART:20211031T020000
RDATE:20220327T030000
TZOFFSETFROM:+0200
TZOFFSETTO:+0100
TZNAME:Europe/Berlin CET
END:STANDARD
BEGIN:STANDARD
DTSTART:20221030T020000
RDATE:20230326T030000
TZOFFSETFROM:+0200
TZOFFSETTO:+0100
TZNAME:Europe/Berlin CET
END:STANDARD
BEGIN:STANDARD
DTSTART:20231029T020000
RDATE:20240331T030000
TZOFFSETFROM:+0200
TZOFFSETTO:+0100
TZNAME:Europe/Berlin CET
END:STANDARD
BEGIN:STANDARD
DTSTART:20241027T020000
RDATE:20250330T030000
TZOFFSETFROM:+0200
TZOFFSETTO:+0100
TZNAME:Europe/Berlin CET
END:STANDARD
BEGIN:DAYLIGHT
DTSTART:20140418T000000
RDATE:20141026T020000
TZOFFSETFROM:+0100
TZOFFSETTO:+0200
TZNAME:Europe/Berlin CEST
END:DAYLIGHT
BEGIN:DAYLIGHT
DTSTART:20150329T030000
RDATE:20151025T020000
TZOFFSETFROM:+0100
TZOFFSETTO:+0200
TZNAME:Europe/Berlin CEST
END:DAYLIGHT
BEGIN:DAYLIGHT
DTSTART:20160327T030000
RDATE:20161030T020000
TZOFFSETFROM:+0100
TZOFFSETTO:+0200
TZNAME:Europe/Berlin CEST
END:DAYLIGHT
BEGIN:DAYLIGHT
DTSTART:20170326T030000
RDATE:20171029T020000
TZOFFSETFROM:+0100
TZOFFSETTO:+0200
TZNAME:Europe/Berlin CEST
END:DAYLIGHT
BEGIN:DAYLIGHT
DTSTART:20180325T030000
RDATE:20181028T020000
TZOFFSETFROM:+0100
TZOFFSETTO:+0200
TZNAME:Europe/Berlin CEST
END:DAYLIGHT
BEGIN:DAYLIGHT
DTSTART:20190331T030000
RDATE:20191027T020000
TZOFFSETFROM:+0100
TZOFFSETTO:+0200
TZNAME:Europe/Berlin CEST
END:DAYLIGHT
BEGIN:DAYLIGHT
DTSTART:20200329T030000
RDATE:20201025T020000
TZOFFSETFROM:+0100
TZOFFSETTO:+0200
TZNAME:Europe/Berlin CEST
END:DAYLIGHT
BEGIN:DAYLIGHT
DTSTART:20210328T030000
RDATE:20211031T020000
TZOFFSETFROM:+0100
TZOFFSETTO:+0200
TZNAME:Europe/Berlin CEST
END:DAYLIGHT
BEGIN:DAYLIGHT
DTSTART:20220327T030000
RDATE:20221030T020000
TZOFFSETFROM:+0100
TZOFFSETTO:+0200
TZNAME:Europe/Berlin CEST
END:DAYLIGHT
BEGIN:DAYLIGHT
DTSTART:20230326T030000
RDATE:20231029T020000
TZOFFSETFROM:+0100
TZOFFSETTO:+0200
TZNAME:Europe/Berlin CEST
END:DAYLIGHT
BEGIN:DAYLIGHT
DTSTART:20240331T030000
RDATE:20241027T020000
TZOFFSETFROM:+0100
TZOFFSETTO:+0200
TZNAME:Europe/Berlin CEST
END:DAYLIGHT
END:VTIMEZONE
BEGIN:VEVENT
UID:420e2793d2d1e53dab92efdcc65811a3
CATEGORIES:Schützenbruderschaft
SUMMARY:Vlado Kumpan und seine Musikanten
DESCRIPTION;ENCODING=QUOTED-PRINTABLE:\n\n \n\n\nLiebe Musikfreunde,\n\n\n \n\n\nam Sonntag, den 19. April 2015 w
 ird der international bekannte Startrompeter „Vlado Kumpan und seine Musika
 nten", allesamt Spitzenmusiker, zu einem Konzert der Extraklasse in der Sch
 ützenhalle Anstel aufspielen.\n\n\n \n\n\nVlado Kumpan zählt hierzulande zu
  den besten Trompetern in der Blasmusikszene. Sein Name steht für exzellent
 es Trompetenspiel und mit seinem Orchester begeistert er bei seinen Konzert
 en auf höchstem Niveau unzählige Zuhörer. Nicht umsonst waren die Musiker s
 chon „Europameister der Blasmusik". Das Repertoire des Orchesters ist breit
  gefächert und reicht von Polka über Walzer bis hin zu Swing und modernen P
 opstücken.\n\n\n \n\n\nWir sind sehr froh, dass wir diesen Spitzenkünstler 
 für ein Konzert gewinnen konnten und laden Euch herzlich dazu ein!\n\n\n \n
 \n\nBeginn der Veranstaltung ist um 11.00 Uhr (Einlass ab 10.00 Uhr), Ende 
 gegen 15.00 Uhr.\n\n\n \n\n\nDer Eintrittspreis beträgt 22,--€, wobei das K
 onzert keinen kommerziellen Hintergrund hat. Im Eintrittspreis bereits enth
 altene 2€ gehen an eine lokale gemeinnützige Einrichtung.\n\n\n \n\n\nEs gi
 bt 8er, 16er, 24er, 28er und 32er Tische. An den Tischen selbst ist freie P
 latzwahl. Bei entsprechender Verfügbarkeit versuchen wir gerne einen gemein
 samen Tisch für euch zu reservieren.\n\n\n \n\n\nWir freuen uns auf Eure Zu
 sage über Diese E-Mail-Adresse ist vor Spambots geschützt! Zur Anzeige muss
  JavaScript eingeschaltet sein!
 //
  oder telefonisch 02183-2337024!\n\n\n
  \n\n\n \n\n\n\n
DTSTAMP:20260426T003008Z
DTSTART;TZID=Europe/Berlin;VALUE=DATE:20150419
DTEND;TZID=Europe/Berlin;VALUE=DATE:20150420
SEQUENCE:0
TRANSP:OPAQUE
END:VEVENT
END:VCALENDAR